BEGIN:VCALENDAR
VERSION:2.0
PRODID:-//Squarespace Inc/Squarespace 6//v6//EN
BEGIN:VEVENT
UID:5b7cd3e78a922def6e6bcb38@squarespace.com
DTSTAMP:20180822T031413Z
DTSTART:20181109T010000Z
DTEND:20181109T043000Z
SUMMARY:Health and Safety Obligations for Small Business – Stirling
GEO:-31.866045;115.814316
LOCATION:Stirling Business Assocation\, 45 Delawney Street\, Balcatta\, Aus
 tralia
END:VEVENT
END:VCALENDAR
