BEGIN:VCALENDAR
VERSION:2.0
PRODID:-//Squarespace Inc/Squarespace 6//v6//EN
BEGIN:VEVENT
UID:5b835a6aaa4a996cc7aea909@squarespace.com
DTSTAMP:20180918T075953Z
DTSTART:20180927T010000Z
DTEND:20180927T043000Z
SUMMARY:Health and Safety Obligations for Small Business – Melville
GEO:-32.035135;115.795557
LOCATION:AH Bracks Library\, 431 Canning Highway\, Melville\, Australia
END:VEVENT
END:VCALENDAR
