BEGIN:VCALENDAR
VERSION:2.0
PRODID:-//Squarespace Inc/Squarespace 6//v6//EN
BEGIN:VEVENT
UID:5b7ccc1dcd83661b26dd9f45@squarespace.com
DTSTAMP:20190114T050009Z
DTSTART:20181213T010000Z
DTEND:20181213T043000Z
SUMMARY:Health and Safety Obligations for Small Business – Joondalup
GEO:-31.742323;115.773814
LOCATION:Joondalup Business Association\, 4/189 Lakeside Drive\, Joondalup\
 , Australia
END:VEVENT
END:VCALENDAR
