BEGIN:VCALENDAR
VERSION:2.0
PRODID:-//Squarespace Inc/Squarespace 6//v6//EN
BEGIN:VEVENT
UID:5ba0b3a040ec9a1fa835e243@squarespace.com
DTSTAMP:20180919T012556Z
DTSTART:20180929T030000Z
DTEND:20180929T043000Z
SUMMARY:Unlock Your Big Idea - Girrawheen Hub
GEO:-31.839774;115.839191
LOCATION:Girrawheen Hub\, 11 Patrick Court\, Girrawheen\, WA\, 6064\, Austr
 alia
END:VEVENT
END:VCALENDAR
