BEGIN:VCALENDAR
VERSION:2.0
PRODID:-//Squarespace Inc/Squarespace 6//v6//EN
BEGIN:VEVENT
UID:5ba0b079898583ea629ebef5@squarespace.com
DTSTAMP:20180919T012625Z
DTSTART:20180925T043000Z
DTEND:20180925T060000Z
SUMMARY:Unlock Your Big Idea - Bentley
GEO:-32.012726;115.909922
LOCATION:Bentley Library\, Corner of Hedley Place & Manning Road\, Bentley\
 , Australia
END:VEVENT
END:VCALENDAR
