BEGIN:VCALENDAR
VERSION:2.0
PRODID:-//Squarespace Inc/Squarespace 6//v6//EN
BEGIN:VEVENT
UID:5c4946cb7ba7fc52100dcbe1@squarespace.com
DTSTAMP:20190213T005514Z
DTSTART:20190531T013000Z
DTEND:20190531T050000Z
SUMMARY:How to Sell Online - Subiaco
GEO:-31.950575;115.82015
LOCATION:Tom Dadour Community Centre (West Wing)\, 363 Bagot Road\, Subiaco
 \, WA\, 6008\, Australia
END:VEVENT
END:VCALENDAR
