BEGIN:VCALENDAR
VERSION:2.0
PRODID:-//Squarespace Inc/Squarespace 6//v6//EN
BEGIN:VEVENT
UID:5c3eeed34ae237f91b785a2d@squarespace.com
DTSTAMP:20190116T084519Z
DTSTART:20190612T013000Z
DTEND:20190612T050000Z
SUMMARY:How to Sell Online - Fremantle
GEO:-32.053328;115.746236
LOCATION:Business Foundations\, Suite 103/ 2 Cantonment Street\, Fremantle\
 , WA\, 6160\, Australia
END:VEVENT
END:VCALENDAR
