BEGIN:VCALENDAR
VERSION:2.0
PRODID:-//Squarespace Inc/Squarespace 6//v6//EN
BEGIN:VEVENT
UID:5c3c5029562fa75d701054c4@squarespace.com
DTSTAMP:20190121T020908Z
DTSTART:20190313T013000Z
DTEND:20190313T033000Z
SUMMARY:Record Keeping for Small Business (GST Registered) - Fremantle
GEO:-32.053328;115.746236
LOCATION:Business Foundations\, Suite 103/ 2 Cantonment Street\, Fremantle\
 , WA\, 6160\, Australia
END:VEVENT
END:VCALENDAR
