BEGIN:VCALENDAR
VERSION:2.0
PRODID:-//Squarespace Inc/Squarespace 6//v6//EN
BEGIN:VEVENT
UID:5c3d4ba10ebbe8148077f326@squarespace.com
DTSTAMP:20190118T035850Z
DTSTART:20190220T013000Z
DTEND:20190220T040000Z
SUMMARY:Manage your Money like a BOSS - Online Training
GEO:26.652013;-80.081947
LOCATION:Online Training
END:VEVENT
END:VCALENDAR
