BEGIN:VCALENDAR
VERSION:2.0
PRODID:-//Squarespace Inc/Squarespace 6//v6//EN
BEGIN:VEVENT
UID:5b7bbd5f40ec9a16a593a06d@squarespace.com
DTSTAMP:20180821T072234Z
DTSTART:20181003T010000Z
DTEND:20181003T043000Z
SUMMARY:HR for Small Business - Fremantle
GEO:-32.053328;115.746236
LOCATION:Business Foundations Inc\, Suite 103/ 2 Cantonment Street\, Freman
 tle\, Australia
END:VEVENT
END:VCALENDAR
