BEGIN:VCALENDAR
VERSION:2.0
PRODID:-//Squarespace Inc/Squarespace 6//v6//EN
BEGIN:VEVENT
UID:5c3c154688251b8b3c74b17b@squarespace.com
DTSTAMP:20190116T080938Z
DTSTART:20190227T013000Z
DTEND:20190227T050000Z
SUMMARY:HR for Small Business - Fremantle
GEO:-32.053328;115.746236
LOCATION:Business Foundations\, Suite 103/ 2 Cantonment Street\, Fremantle\
 , WA 6160\, Australia
END:VEVENT
END:VCALENDAR
