BEGIN:VCALENDAR
VERSION:2.0
PRODID:-//Squarespace Inc/Squarespace 6//v6//EN
BEGIN:VEVENT
UID:5c3c15e9575d1fa7c0adff67@squarespace.com
DTSTAMP:20190116T081031Z
DTSTART:20190502T013000Z
DTEND:20190502T050000Z
SUMMARY:HR for Small Business - Canning
GEO:-32.037525;115.903327
LOCATION:Riverton Library\, 67 Riley Road (corner High Road)\, Riverton\, W
 A\, 6148\, Australia
END:VEVENT
END:VCALENDAR
