BEGIN:VCALENDAR
VERSION:2.0
PRODID:-//Squarespace Inc/Squarespace 6//v6//EN
BEGIN:VEVENT
UID:5b7ccfb903ce64d96fe16b3b@squarespace.com
DTSTAMP:20190114T045117Z
DTSTART:20181129T010000Z
DTEND:20181129T043000Z
SUMMARY:HR for Small Business - Bassendean
GEO:-31.904027;115.94928
LOCATION:Bassendean Memorial Library\, 46 Old Perth Road\, Bassendean\, Aus
 tralia
END:VEVENT
END:VCALENDAR
