BEGIN:VCALENDAR
VERSION:2.0
PRODID:-//Squarespace Inc/Squarespace 6//v6//EN
BEGIN:VEVENT
UID:5b7cd78bc2241bf31c60d36b@squarespace.com
DTSTAMP:20180822T032619Z
DTSTART:20181030T010000Z
DTEND:20181030T043000Z
SUMMARY:Create Your Own Free Graphics to Brand Your Business – It’s Easy Wi
 th Canva! - Vincent
GEO:-32.053328;115.746236
LOCATION:City of Vincent Library\, 99 Loftus Street\, Leederville\, Austral
 ia
END:VEVENT
END:VCALENDAR
