BEGIN:VCALENDAR
VERSION:2.0
PRODID:-//Squarespace Inc/Squarespace 6//v6//EN
BEGIN:VEVENT
UID:5b6bee8a8985835b3fcf8691@squarespace.com
DTSTAMP:20180809T073759Z
DTSTART:20180906T010000Z
DTEND:20180906T043000Z
SUMMARY:Create Your Own Free Graphics to Brand Your Business – It’s Easy Wi
 th Canva! - Fremantle
GEO:-32.053328;115.746236
LOCATION:Business Foundations Inc\, 2 Cantonment Street\, Fremantle\, WA\, 
 6160\, Australia
END:VEVENT
END:VCALENDAR
