BEGIN:VCALENDAR
VERSION:2.0
PRODID:-//Squarespace Inc/Squarespace 6//v6//EN
BEGIN:VEVENT
UID:5c3eef478a922d0355b62c88@squarespace.com
DTSTAMP:20190116T084716Z
DTSTART:20190328T013000Z
DTEND:20190328T050000Z
SUMMARY:Create Your Own Free Graphics to Brand Your Business – It’s Easy Wi
 th Canva! - West Perth
GEO:-31.948254;115.838451
LOCATION:The Park Business Centre\, 45 Ventnor Avenue\, West Perth\, WA\, 6
 005\, Australia
END:VEVENT
END:VCALENDAR
