BEGIN:VCALENDAR
VERSION:2.0
PRODID:-//Squarespace Inc/Squarespace 6//v6//EN
BEGIN:VEVENT
UID:5c3d39f521c67c73df8606e5@squarespace.com
DTSTAMP:20190121T013158Z
DTSTART:20190515T013000Z
DTEND:20190515T050000Z
SUMMARY:Create Your Own Free Graphics to Brand Your Business – It’s Easy Wi
 th Canva! - Victoria Park
GEO:-31.97222;115.89656
LOCATION:Digital Hub\, 1 Harper Street\, Victoria Park\, WA\, 6100\, Austra
 lia
END:VEVENT
END:VCALENDAR
