BEGIN:VCALENDAR
VERSION:2.0
PRODID:-//Squarespace Inc/Squarespace 6//v6//EN
BEGIN:VEVENT
UID:5c3c13f289858359169747eb@squarespace.com
DTSTAMP:20190117T033957Z
DTSTART:20190215T013000Z
DTEND:20190215T050000Z
SUMMARY:Create Your Own Free Graphics to Brand Your Business – It’s Easy Wi
 th Canva! - Fremantle
GEO:-32.053328;115.746236
LOCATION:Business Foundations\, Suite 103/ 2 Cantonment Street\, Fremantle\
 , WA\, 6160\, Australia
END:VEVENT
END:VCALENDAR
