BEGIN:VCALENDAR
VERSION:2.0
PRODID:-//Squarespace Inc/Squarespace 6//v6//EN
BEGIN:VEVENT
UID:5c3c39800ebbe85c2b99607b@squarespace.com
DTSTAMP:20190116T080616Z
DTSTART:20190621T013000Z
DTEND:20190621T050000Z
SUMMARY:Create Your Own Free Graphics to Brand Your Business – It’s Easy Wi
 th Canva! - Cockburn
GEO:-32.129824;115.853193
LOCATION:Cockburn Health Community Facility\, 11 Wentworth Parade\, Success
 \, WA\, 6164\, Australia
END:VEVENT
END:VCALENDAR
