BEGIN:VCALENDAR
VERSION:2.0
PRODID:-//Squarespace Inc/Squarespace 6//v6//EN
BEGIN:VEVENT
UID:5c454f618a922d3a72e9524e@squarespace.com
DTSTAMP:20190121T052037Z
DTSTART:20190222T020000Z
DTEND:20190222T030000Z
SUMMARY:Business Over Coffee: Marketing 
GEO:-32.053328;115.746236
LOCATION:Business Foundations\, Suite 103/ 2 Cantonment Street\, Fremantle\
 , WA\, 6160\, Australia
END:VEVENT
END:VCALENDAR
