BEGIN:VCALENDAR
VERSION:2.0
PRODID:-//Squarespace Inc/Squarespace 6//v6//EN
BEGIN:VEVENT
UID:5b6a6df9352f5350834905df@squarespace.com
DTSTAMP:20180808T042052Z
DTSTART:20181009T013000Z
DTEND:20181009T040000Z
SUMMARY:How to Create a Memorable Customer Experience - Online Training
GEO:26.652013;-80.081947
LOCATION:Online Training
END:VEVENT
END:VCALENDAR
