BEGIN:VCALENDAR
VERSION:2.0
PRODID:-//Squarespace Inc/Squarespace 6//v6//EN
BEGIN:VEVENT
UID:5a2e4785f9619a5b7c9c1286@squarespace.com
DTSTAMP:20171211T091233Z
DTSTART:20180503T010000Z
DTEND:20180503T070000Z
SUMMARY:Growth Owner - Cash Management
GEO:-32.053933;115.760478
LOCATION:Business Foundations\, Fremantle\, 6160\, WA\, Australia
END:VEVENT
END:VCALENDAR
