BEGIN:VCALENDAR
VERSION:2.0
PRODID:-//Squarespace Inc/Squarespace 6//v6//EN
BEGIN:VEVENT
UID:5a2e4a22e2c483bdd90b2b72@squarespace.com
DTSTAMP:20171211T091059Z
DTSTART:20181012T010000Z
DTEND:20181012T070000Z
SUMMARY:Growth Owner - Innovation & Well being
GEO:-32.053933;115.760478
LOCATION:Business Foundations\, Fremantle\, 6160\, WA\, Australia
END:VEVENT
END:VCALENDAR
